BEGIN:VCALENDAR
VERSION:2.0
PRODID:-//jEvents 2.0 for Joomla//EN
CALSCALE:GREGORIAN
METHOD:PUBLISH
BEGIN:VTIMEZONE
TZID:Europe/Berlin
BEGIN:STANDARD
DTSTART:20170215T200000
RDATE:20170326T030000
TZOFFSETFROM:+0200
TZOFFSETTO:+0100
TZNAME:Europe/Berlin CET
END:STANDARD
BEGIN:STANDARD
DTSTART:20171029T020000
RDATE:20180325T030000
TZOFFSETFROM:+0200
TZOFFSETTO:+0100
TZNAME:Europe/Berlin CET
END:STANDARD
BEGIN:STANDARD
DTSTART:20181028T020000
RDATE:20190331T030000
TZOFFSETFROM:+0200
TZOFFSETTO:+0100
TZNAME:Europe/Berlin CET
END:STANDARD
BEGIN:STANDARD
DTSTART:20191027T020000
RDATE:20200329T030000
TZOFFSETFROM:+0200
TZOFFSETTO:+0100
TZNAME:Europe/Berlin CET
END:STANDARD
BEGIN:STANDARD
DTSTART:20201025T020000
RDATE:20210328T030000
TZOFFSETFROM:+0200
TZOFFSETTO:+0100
TZNAME:Europe/Berlin CET
END:STANDARD
BEGIN:STANDARD
DTSTART:20211031T020000
RDATE:20220327T030000
TZOFFSETFROM:+0200
TZOFFSETTO:+0100
TZNAME:Europe/Berlin CET
END:STANDARD
BEGIN:STANDARD
DTSTART:20221030T020000
RDATE:20230326T030000
TZOFFSETFROM:+0200
TZOFFSETTO:+0100
TZNAME:Europe/Berlin CET
END:STANDARD
BEGIN:STANDARD
DTSTART:20231029T020000
RDATE:20240331T030000
TZOFFSETFROM:+0200
TZOFFSETTO:+0100
TZNAME:Europe/Berlin CET
END:STANDARD
BEGIN:STANDARD
DTSTART:20241027T020000
RDATE:20250330T030000
TZOFFSETFROM:+0200
TZOFFSETTO:+0100
TZNAME:Europe/Berlin CET
END:STANDARD
BEGIN:STANDARD
DTSTART:20251026T020000
RDATE:20260329T030000
TZOFFSETFROM:+0200
TZOFFSETTO:+0100
TZNAME:Europe/Berlin CET
END:STANDARD
BEGIN:STANDARD
DTSTART:20261025T020000
RDATE:20270328T030000
TZOFFSETFROM:+0200
TZOFFSETTO:+0100
TZNAME:Europe/Berlin CET
END:STANDARD
BEGIN:STANDARD
DTSTART:20271031T020000
RDATE:20280326T030000
TZOFFSETFROM:+0200
TZOFFSETTO:+0100
TZNAME:Europe/Berlin CET
END:STANDARD
BEGIN:DAYLIGHT
DTSTART:20170326T030000
RDATE:20171029T020000
TZOFFSETFROM:+0100
TZOFFSETTO:+0200
TZNAME:Europe/Berlin CEST
END:DAYLIGHT
BEGIN:DAYLIGHT
DTSTART:20180325T030000
RDATE:20181028T020000
TZOFFSETFROM:+0100
TZOFFSETTO:+0200
TZNAME:Europe/Berlin CEST
END:DAYLIGHT
BEGIN:DAYLIGHT
DTSTART:20190331T030000
RDATE:20191027T020000
TZOFFSETFROM:+0100
TZOFFSETTO:+0200
TZNAME:Europe/Berlin CEST
END:DAYLIGHT
BEGIN:DAYLIGHT
DTSTART:20200329T030000
RDATE:20201025T020000
TZOFFSETFROM:+0100
TZOFFSETTO:+0200
TZNAME:Europe/Berlin CEST
END:DAYLIGHT
BEGIN:DAYLIGHT
DTSTART:20210328T030000
RDATE:20211031T020000
TZOFFSETFROM:+0100
TZOFFSETTO:+0200
TZNAME:Europe/Berlin CEST
END:DAYLIGHT
BEGIN:DAYLIGHT
DTSTART:20220327T030000
RDATE:20221030T020000
TZOFFSETFROM:+0100
TZOFFSETTO:+0200
TZNAME:Europe/Berlin CEST
END:DAYLIGHT
BEGIN:DAYLIGHT
DTSTART:20230326T030000
RDATE:20231029T020000
TZOFFSETFROM:+0100
TZOFFSETTO:+0200
TZNAME:Europe/Berlin CEST
END:DAYLIGHT
BEGIN:DAYLIGHT
DTSTART:20240331T030000
RDATE:20241027T020000
TZOFFSETFROM:+0100
TZOFFSETTO:+0200
TZNAME:Europe/Berlin CEST
END:DAYLIGHT
BEGIN:DAYLIGHT
DTSTART:20250330T030000
RDATE:20251026T020000
TZOFFSETFROM:+0100
TZOFFSETTO:+0200
TZNAME:Europe/Berlin CEST
END:DAYLIGHT
BEGIN:DAYLIGHT
DTSTART:20260329T030000
RDATE:20261025T020000
TZOFFSETFROM:+0100
TZOFFSETTO:+0200
TZNAME:Europe/Berlin CEST
END:DAYLIGHT
BEGIN:DAYLIGHT
DTSTART:20270328T030000
RDATE:20271031T020000
TZOFFSETFROM:+0100
TZOFFSETTO:+0200
TZNAME:Europe/Berlin CEST
END:DAYLIGHT
END:VTIMEZONE
BEGIN:VEVENT
UID:73d2be3fd5a300294b649538e3ca590f
CATEGORIES:Hauptgruppe
CREATED:20171121T193231
SUMMARY:Aulataler - Jahreshauptversammlung
URL;VALUE=URI:https://www.die-aulataler.de/terminkalender/eventdetail/81/-/jahreshauptver
 sammlung?tmpl=component
DESCRIPTION:Der Vorstand lädt alle Mitglieder recht herzlich ein zur Jahreshauptversamm
 lung 2018 amFreitag, dem 16. Februar um 20:00 Uhr im Gruppenraum in Kirchhe
 im.\n \n Tagesordnung:\n  1. Jahresbericht der Ersten Vorsitzenden \n  2. K
 assenbericht der Kassiererin \n  3. Bericht der Kassenprüfer \n  4. Bericht
  der Tanz- und Musikwarte \n  5. Entlastung des Vorstandes \n  6. Verlesung
  der Niederschrift der letzten Jahreshauptversammlung \n  7. Termine 2018 \
 n  8. Anträge \n  9. Verschiedenes\n10. Jahresrückblick 2017 mit Fotos und 
 Videos\n \n Anträge zu Punkt 8. bitte vorab beim Vorstand einreichen (Diese
  E-Mail-Adresse ist vor Spambots geschützt! Zur Anzeige muss JavaScript ein
 geschaltet sein.).\n Wir bitten um vollzähliges Erscheinen.\n \n Der Vorsta
 nd\n Dieser Event wurde importiert von: https://www.die-aulataler.de/termin
 kalender/eventdetail/81/-/jahreshauptversammlung?tmpl=component
X-ALT-DESC;FMTTYPE=text/html:<div class="img-fulltext-left">Der Vorstand lädt alle Mitglieder recht herz
 lich ein zur Jahreshauptversammlung 2018 am</div><p><strong>Freitag, dem 16
 . Februar um 20:00 Uhr</strong> im Gruppenraum in Kirchheim.<br /> <br /> T
 agesordnung:<br />  1. Jahresbericht der Ersten Vorsitzenden <br />  2. Kas
 senbericht der Kassiererin <br />  3. Bericht der Kassenprüfer <br />  4. B
 ericht der Tanz- und Musikwarte <br />  5. Entlastung des Vorstandes <br />
   6. Verlesung der Niederschrift der letzten Jahreshauptversammlung <br /> 
  7. Termine 2018 <br />  8. Anträge <br />  9. Verschiedenes<br />10. Jahre
 srückblick 2017 mit Fotos und Videos<br /> <br /> Anträge zu Punkt 8. bitte
  vorab beim Vorstand einreichen (<span id="cloak3616"><span id="cloak5b380a
 a4f47f035ca93e56e6eeafe86d"><joomla-hidden-mail class="moz-txt-link-abbrevi
 ated"  is-link="1" is-email="1" first="dm9yc3RhbmQ=" last="ZGllLWF1bGF0YWxl
 ci5kZQ==" text="dm9yc3RhbmRAZGllLWF1bGF0YWxlci5kZQ==" base="" >Diese E-Mail
 -Adresse ist vor Spambots geschützt! Zur Anzeige muss JavaScript eingeschal
 tet sein.</joomla-hidden-mail></span></span>).<br /> Wir bitten um vollzähl
 iges Erscheinen.<br /> <br /> Der Vorstand</p> <a href="https://www.die-aul
 ataler.de/terminkalender/eventdetail/81/-/jahreshauptversammlung?tmpl=compo
 nent">Dieser Event wurde importiert von: https://www.die-aulataler.de/termi
 nkalender/eventdetail/81/-/jahreshauptversammlung?tmpl=component</a>DTSTAMP:20260421T190936
DTSTART;TZID=Europe/Berlin:20180216T200000
SEQUENCE:0
TRANSP:OPAQUE
END:VEVENT
END:VCALENDAR