BEGIN:VCALENDAR
VERSION:2.0
PRODID:-//jEvents 2.0 for Joomla//EN
CALSCALE:GREGORIAN
METHOD:PUBLISH
BEGIN:VTIMEZONE
TZID:Europe/Berlin
BEGIN:STANDARD
DTSTART:20240329T133000
RDATE:20240331T030000
TZOFFSETFROM:+0200
TZOFFSETTO:+0100
TZNAME:Europe/Berlin CET
END:STANDARD
BEGIN:STANDARD
DTSTART:20241027T020000
RDATE:20250330T030000
TZOFFSETFROM:+0200
TZOFFSETTO:+0100
TZNAME:Europe/Berlin CET
END:STANDARD
BEGIN:STANDARD
DTSTART:20251026T020000
RDATE:20260329T030000
TZOFFSETFROM:+0200
TZOFFSETTO:+0100
TZNAME:Europe/Berlin CET
END:STANDARD
BEGIN:STANDARD
DTSTART:20261025T020000
RDATE:20270328T030000
TZOFFSETFROM:+0200
TZOFFSETTO:+0100
TZNAME:Europe/Berlin CET
END:STANDARD
BEGIN:STANDARD
DTSTART:20271031T020000
RDATE:20280326T030000
TZOFFSETFROM:+0200
TZOFFSETTO:+0100
TZNAME:Europe/Berlin CET
END:STANDARD
BEGIN:DAYLIGHT
DTSTART:20240331T030000
RDATE:20241027T020000
TZOFFSETFROM:+0100
TZOFFSETTO:+0200
TZNAME:Europe/Berlin CEST
END:DAYLIGHT
BEGIN:DAYLIGHT
DTSTART:20250330T030000
RDATE:20251026T020000
TZOFFSETFROM:+0100
TZOFFSETTO:+0200
TZNAME:Europe/Berlin CEST
END:DAYLIGHT
BEGIN:DAYLIGHT
DTSTART:20260329T030000
RDATE:20261025T020000
TZOFFSETFROM:+0100
TZOFFSETTO:+0200
TZNAME:Europe/Berlin CEST
END:DAYLIGHT
BEGIN:DAYLIGHT
DTSTART:20270328T030000
RDATE:20271031T020000
TZOFFSETFROM:+0100
TZOFFSETTO:+0200
TZNAME:Europe/Berlin CEST
END:DAYLIGHT
END:VTIMEZONE
BEGIN:VEVENT
UID:5c1ad41d5533fd96eb6770ae070c470a
CATEGORIES:Hauptgruppe
CREATED:20250125T134443
SUMMARY:Aulataler - 11. Kirchheimer Dorfnachmittag
LOCATION:Bürgerhaus Kirchheim\, großer Saal
URL;VALUE=URI:https://www.die-aulataler.de/terminkalender/eventdetail/286/-/11-kirchheime
 r-dorfnachmittag?tmpl=component
DESCRIPTION:<p>Wir laden herzlich ein zum 11. Kirchheimer Dorfnachmittag für Jung und A
 lt im Bürgerhaus Kirchheim (großer Saal)</p><p>Mitwirkende:</p><ul><li>Ev. 
 Singkreis Kirchheim</li><li>Kinderkantorei Kichheim</li><li>"Kapelle ohne S
 teckdose" aus Schenklengsfeld</li><li>und natürlich "Die Aulataler"</li></u
 l><p>Für das leibliche Wohl ist gesorgt mit Kaffee und Kuchen sowie kalten 
 Getränken!</p><p>Eintritt frei! <br /> </p> <a href="https://www.die-aulata
 ler.de/terminkalender/eventdetail/286/-/11-kirchheimer-dorfnachmittag?tmpl=
 component">Dieser Event wurde importiert von: https://www.die-aulataler.de/
 terminkalender/eventdetail/286/-/11-kirchheimer-dorfnachmittag?tmpl=compone
 nt</a>X-EXTRAINFO:Bitte bringen Sie wieder Ihr eigenes Kaffeegeschirr mit!
DTSTAMP:20260421T125043
DTSTART;TZID=Europe/Berlin:20250330T143000
DTEND;TZID=Europe/Berlin:20250330T170000
SEQUENCE:0
TRANSP:OPAQUE
END:VEVENT
END:VCALENDAR