BEGIN:VCALENDAR
VERSION:2.0
PRODID:-//jEvents 2.0 for Joomla//EN
CALSCALE:GREGORIAN
METHOD:PUBLISH
BEGIN:VTIMEZONE
TZID:Europe/Berlin
BEGIN:STANDARD
DTSTART:20241027T020000
RDATE:20250330T030000
TZOFFSETFROM:+0200
TZOFFSETTO:+0100
TZNAME:Europe/Berlin CET
END:STANDARD
BEGIN:STANDARD
DTSTART:20251026T020000
RDATE:20260329T030000
TZOFFSETFROM:+0200
TZOFFSETTO:+0100
TZNAME:Europe/Berlin CET
END:STANDARD
BEGIN:STANDARD
DTSTART:20261025T020000
RDATE:20270328T030000
TZOFFSETFROM:+0200
TZOFFSETTO:+0100
TZNAME:Europe/Berlin CET
END:STANDARD
BEGIN:STANDARD
DTSTART:20271031T020000
RDATE:20280326T030000
TZOFFSETFROM:+0200
TZOFFSETTO:+0100
TZNAME:Europe/Berlin CET
END:STANDARD
BEGIN:DAYLIGHT
DTSTART:20240426T140000
RDATE:20241027T020000
TZOFFSETFROM:+0100
TZOFFSETTO:+0200
TZNAME:Europe/Berlin CEST
END:DAYLIGHT
BEGIN:DAYLIGHT
DTSTART:20250330T030000
RDATE:20251026T020000
TZOFFSETFROM:+0100
TZOFFSETTO:+0200
TZNAME:Europe/Berlin CEST
END:DAYLIGHT
BEGIN:DAYLIGHT
DTSTART:20260329T030000
RDATE:20261025T020000
TZOFFSETFROM:+0100
TZOFFSETTO:+0200
TZNAME:Europe/Berlin CEST
END:DAYLIGHT
BEGIN:DAYLIGHT
DTSTART:20270328T030000
RDATE:20271031T020000
TZOFFSETFROM:+0100
TZOFFSETTO:+0200
TZNAME:Europe/Berlin CEST
END:DAYLIGHT
END:VTIMEZONE
BEGIN:VEVENT
UID:8e6b9898074b780769237ced8af2a9f0
CATEGORIES:Hauptgruppe
CREATED:20250318T131327
SUMMARY:Aulataler - Auftritt in Bad Hersfeld
LOCATION:Bad Hersfeld\, Innenstadt
URL;VALUE=URI:https://www.die-aulataler.de/terminkalender/eventdetail/291/-/auftritt-in-b
 ad-hersfeld?tmpl=component
DESCRIPTION:"Tourist in der eigenen Stadt - Das bäuerliche Leben im Mittelalter und heu
 te": unter diesem Motto veranstaltet die Stadt Bad Hersfeld am 27.04.2025 e
 in buntes Programm.\nDabei dürfen natürlich auch die traditionellen Tänze n
 icht fehlen - die "Aulataler" und die Bezirksgruppe Ost der HVT zeigen ihr 
 Können bei zwei Auftritten.\n Dieser Event wurde importiert von: https://ww
 w.die-aulataler.de/terminkalender/eventdetail/291/-/auftritt-in-bad-hersfel
 d?tmpl=component
X-ALT-DESC;FMTTYPE=text/html:<p>"Tourist in der eigenen Stadt - Das bäuerliche Leben im Mittelalter und 
 heute": unter diesem Motto veranstaltet die Stadt Bad Hersfeld am 27.04.202
 5 ein buntes Programm.</p><p>Dabei dürfen natürlich auch die traditionellen
  Tänze nicht fehlen - die "Aulataler" und die Bezirksgruppe Ost der HVT zei
 gen ihr Können bei zwei Auftritten.</p> <a href="https://www.die-aulataler.
 de/terminkalender/eventdetail/291/-/auftritt-in-bad-hersfeld?tmpl=component
 ">Dieser Event wurde importiert von: https://www.die-aulataler.de/terminkal
 ender/eventdetail/291/-/auftritt-in-bad-hersfeld?tmpl=component</a>X-EXTRAINFO:https://www.badhersfeld-tourismus.de/veranstaltungskalender#/veranstaltunge
 n/DE1/e1deaeae-5324-486c-9773-b9a8521cb2e2/tourist-in-der-eigenen-stadt
DTSTAMP:20260421T094605
DTSTART;TZID=Europe/Berlin:20250427T140000
DTEND;TZID=Europe/Berlin:20250427T143000
SEQUENCE:0
TRANSP:OPAQUE
END:VEVENT
END:VCALENDAR