BEGIN:VCALENDAR
VERSION:2.0
PRODID:-//jEvents 2.0 for Joomla//EN
CALSCALE:GREGORIAN
METHOD:PUBLISH
BEGIN:VTIMEZONE
TZID:Europe/Berlin
BEGIN:STANDARD
DTSTART:20241027T020000
RDATE:20250330T030000
TZOFFSETFROM:+0200
TZOFFSETTO:+0100
TZNAME:Europe/Berlin CET
END:STANDARD
BEGIN:STANDARD
DTSTART:20251026T020000
RDATE:20260329T030000
TZOFFSETFROM:+0200
TZOFFSETTO:+0100
TZNAME:Europe/Berlin CET
END:STANDARD
BEGIN:STANDARD
DTSTART:20261025T020000
RDATE:20270328T030000
TZOFFSETFROM:+0200
TZOFFSETTO:+0100
TZNAME:Europe/Berlin CET
END:STANDARD
BEGIN:STANDARD
DTSTART:20271031T020000
RDATE:20280326T030000
TZOFFSETFROM:+0200
TZOFFSETTO:+0100
TZNAME:Europe/Berlin CET
END:STANDARD
BEGIN:DAYLIGHT
DTSTART:20240426T161500
RDATE:20241027T020000
TZOFFSETFROM:+0100
TZOFFSETTO:+0200
TZNAME:Europe/Berlin CEST
END:DAYLIGHT
BEGIN:DAYLIGHT
DTSTART:20250330T030000
RDATE:20251026T020000
TZOFFSETFROM:+0100
TZOFFSETTO:+0200
TZNAME:Europe/Berlin CEST
END:DAYLIGHT
BEGIN:DAYLIGHT
DTSTART:20260329T030000
RDATE:20261025T020000
TZOFFSETFROM:+0100
TZOFFSETTO:+0200
TZNAME:Europe/Berlin CEST
END:DAYLIGHT
BEGIN:DAYLIGHT
DTSTART:20270328T030000
RDATE:20271031T020000
TZOFFSETFROM:+0100
TZOFFSETTO:+0200
TZNAME:Europe/Berlin CEST
END:DAYLIGHT
END:VTIMEZONE
BEGIN:VEVENT
UID:0a51d99516a5f2291a44044741c60503
CATEGORIES:HVT Bezirksgruppe Ost
CREATED:20250323T221719
SUMMARY:Aulataler - Auftritt in Bad Hersfeld
URL;VALUE=URI:https://www.die-aulataler.de/terminkalender/eventdetail/294/-/auftritt-in-b
 ad-hersfeld?tmpl=component
DESCRIPTION:<p>"Tourist in der eigenen Stadt - Das bäuerliche Leben im Mittelalter und 
 heute": unter diesem Motto veranstaltet die Stadt Bad Hersfeld am 27.04.202
 5 ein buntes Programm.</p><p>Dabei dürfen natürlich auch die traditionellen
  Tänze nicht fehlen - die "Aulataler" und die Bezirksgruppe Ost der HVT zei
 gen ihr Können bei zwei Auftritten.</p> <a href="https://www.die-aulataler.
 de/terminkalender/eventdetail/294/-/auftritt-in-bad-hersfeld?tmpl=component
 ">Dieser Event wurde importiert von: https://www.die-aulataler.de/terminkal
 ender/eventdetail/294/-/auftritt-in-bad-hersfeld?tmpl=component</a>DTSTAMP:20260421T084511
DTSTART;TZID=Europe/Berlin:20250427T161500
DTEND;TZID=Europe/Berlin:20250427T164500
SEQUENCE:0
TRANSP:OPAQUE
END:VEVENT
END:VCALENDAR