BEGIN:VCALENDAR
VERSION:2.0
PRODID:-//jEvents 2.0 for Joomla//EN
CALSCALE:GREGORIAN
METHOD:PUBLISH
BEGIN:VTIMEZONE
TZID:Europe/Berlin
BEGIN:STANDARD
DTSTART:20241027T020000
RDATE:20250330T030000
TZOFFSETFROM:+0200
TZOFFSETTO:+0100
TZNAME:Europe/Berlin CET
END:STANDARD
BEGIN:STANDARD
DTSTART:20251026T020000
RDATE:20260329T030000
TZOFFSETFROM:+0200
TZOFFSETTO:+0100
TZNAME:Europe/Berlin CET
END:STANDARD
BEGIN:STANDARD
DTSTART:20261025T020000
RDATE:20270328T030000
TZOFFSETFROM:+0200
TZOFFSETTO:+0100
TZNAME:Europe/Berlin CET
END:STANDARD
BEGIN:STANDARD
DTSTART:20271031T020000
RDATE:20280326T030000
TZOFFSETFROM:+0200
TZOFFSETTO:+0100
TZNAME:Europe/Berlin CET
END:STANDARD
BEGIN:DAYLIGHT
DTSTART:20240412T180000
RDATE:20241027T020000
TZOFFSETFROM:+0100
TZOFFSETTO:+0200
TZNAME:Europe/Berlin CEST
END:DAYLIGHT
BEGIN:DAYLIGHT
DTSTART:20250330T030000
RDATE:20251026T020000
TZOFFSETFROM:+0100
TZOFFSETTO:+0200
TZNAME:Europe/Berlin CEST
END:DAYLIGHT
BEGIN:DAYLIGHT
DTSTART:20260329T030000
RDATE:20261025T020000
TZOFFSETFROM:+0100
TZOFFSETTO:+0200
TZNAME:Europe/Berlin CEST
END:DAYLIGHT
BEGIN:DAYLIGHT
DTSTART:20270328T030000
RDATE:20271031T020000
TZOFFSETFROM:+0100
TZOFFSETTO:+0200
TZNAME:Europe/Berlin CEST
END:DAYLIGHT
END:VTIMEZONE
BEGIN:VEVENT
UID:fc9b69e13e2ceb9b2f667b4f27ce1c3c
CATEGORIES:HVT Bezirksgruppe Ost
CREATED:20250323T221950
SUMMARY:Aulataler - Tanzprobe Bezirksgruppe
LOCATION:Kirchheim 
URL;VALUE=URI:https://www.die-aulataler.de/terminkalender/eventdetail/295/-/tanzprobe-bez
 irksgruppe?tmpl=component
DESCRIPTION: <a href="https://www.die-aulataler.de/terminkalender/eventdetail/295/-/tan
 zprobe-bezirksgruppe?tmpl=component">Dieser Event wurde importiert von: htt
 ps://www.die-aulataler.de/terminkalender/eventdetail/295/-/tanzprobe-bezirk
 sgruppe?tmpl=component</a>DTSTAMP:20260421T084511
DTSTART;TZID=Europe/Berlin:20250413T180000
DTEND;TZID=Europe/Berlin:20250413T200000
SEQUENCE:0
TRANSP:OPAQUE
END:VEVENT
END:VCALENDAR