BEGIN:VCALENDAR
VERSION:2.0
PRODID:-//jEvents 2.0 for Joomla//EN
CALSCALE:GREGORIAN
METHOD:PUBLISH
BEGIN:VTIMEZONE
TZID:Europe/Berlin
BEGIN:STANDARD
DTSTART:20241027T020000
RDATE:20250330T030000
TZOFFSETFROM:+0200
TZOFFSETTO:+0100
TZNAME:Europe/Berlin CET
END:STANDARD
BEGIN:STANDARD
DTSTART:20251026T020000
RDATE:20260329T030000
TZOFFSETFROM:+0200
TZOFFSETTO:+0100
TZNAME:Europe/Berlin CET
END:STANDARD
BEGIN:STANDARD
DTSTART:20261025T020000
RDATE:20270328T030000
TZOFFSETFROM:+0200
TZOFFSETTO:+0100
TZNAME:Europe/Berlin CET
END:STANDARD
BEGIN:STANDARD
DTSTART:20271031T020000
RDATE:20280326T030000
TZOFFSETFROM:+0200
TZOFFSETTO:+0100
TZNAME:Europe/Berlin CET
END:STANDARD
BEGIN:DAYLIGHT
DTSTART:20240613T180000
RDATE:20241027T020000
TZOFFSETFROM:+0100
TZOFFSETTO:+0200
TZNAME:Europe/Berlin CEST
END:DAYLIGHT
BEGIN:DAYLIGHT
DTSTART:20250330T030000
RDATE:20251026T020000
TZOFFSETFROM:+0100
TZOFFSETTO:+0200
TZNAME:Europe/Berlin CEST
END:DAYLIGHT
BEGIN:DAYLIGHT
DTSTART:20260329T030000
RDATE:20261025T020000
TZOFFSETFROM:+0100
TZOFFSETTO:+0200
TZNAME:Europe/Berlin CEST
END:DAYLIGHT
BEGIN:DAYLIGHT
DTSTART:20270328T030000
RDATE:20271031T020000
TZOFFSETFROM:+0100
TZOFFSETTO:+0200
TZNAME:Europe/Berlin CEST
END:DAYLIGHT
END:VTIMEZONE
BEGIN:VEVENT
UID:57c14f16fd13069399fe180b6d7bcafc
CATEGORIES:Hauptgruppe
CREATED:20250510T152629
SUMMARY:Aulataler - Generalprobe für den Hessentag
LOCATION:Gruppenraum\, Bürgerhaus Kirchheim
URL;VALUE=URI:https://www.die-aulataler.de/terminkalender/eventdetail/307/-/generalprobe-
 fuer-den-hessentag?tmpl=component
DESCRIPTION: Dieser Event wurde importiert von: https://www.die-aulataler.de/terminkale
 nder/eventdetail/307/-/generalprobe-fuer-den-hessentag?tmpl=component (http
 s://www.die-aulataler.de/terminkalender/eventdetail/307/-/generalprobe-fuer
 -den-hessentag?tmpl=component)
X-ALT-DESC;FMTTYPE=text/html: <a href="https://www.die-aulataler.de/terminkalender/eventdetail/307/-/gen
 eralprobe-fuer-den-hessentag?tmpl=component">Dieser Event wurde importiert 
 von: https://www.die-aulataler.de/terminkalender/eventdetail/307/-/generalp
 robe-fuer-den-hessentag?tmpl=component</a>DTSTAMP:20260421T084359
DTSTART;TZID=Europe/Berlin:20250614T180000
SEQUENCE:0
TRANSP:OPAQUE
END:VEVENT
END:VCALENDAR