BEGIN:VCALENDAR
VERSION:2.0
PRODID:-//jEvents 2.0 for Joomla//EN
CALSCALE:GREGORIAN
METHOD:PUBLISH
BEGIN:VTIMEZONE
TZID:Europe/Berlin
BEGIN:STANDARD
DTSTART:20241027T020000
RDATE:20250330T030000
TZOFFSETFROM:+0200
TZOFFSETTO:+0100
TZNAME:Europe/Berlin CET
END:STANDARD
BEGIN:STANDARD
DTSTART:20251026T020000
RDATE:20260329T030000
TZOFFSETFROM:+0200
TZOFFSETTO:+0100
TZNAME:Europe/Berlin CET
END:STANDARD
BEGIN:STANDARD
DTSTART:20261025T020000
RDATE:20270328T030000
TZOFFSETFROM:+0200
TZOFFSETTO:+0100
TZNAME:Europe/Berlin CET
END:STANDARD
BEGIN:STANDARD
DTSTART:20271031T020000
RDATE:20280326T030000
TZOFFSETFROM:+0200
TZOFFSETTO:+0100
TZNAME:Europe/Berlin CET
END:STANDARD
BEGIN:DAYLIGHT
DTSTART:20241016T180000
RDATE:20241027T020000
TZOFFSETFROM:+0100
TZOFFSETTO:+0200
TZNAME:Europe/Berlin CEST
END:DAYLIGHT
BEGIN:DAYLIGHT
DTSTART:20250330T030000
RDATE:20251026T020000
TZOFFSETFROM:+0100
TZOFFSETTO:+0200
TZNAME:Europe/Berlin CEST
END:DAYLIGHT
BEGIN:DAYLIGHT
DTSTART:20260329T030000
RDATE:20261025T020000
TZOFFSETFROM:+0100
TZOFFSETTO:+0200
TZNAME:Europe/Berlin CEST
END:DAYLIGHT
BEGIN:DAYLIGHT
DTSTART:20270328T030000
RDATE:20271031T020000
TZOFFSETFROM:+0100
TZOFFSETTO:+0200
TZNAME:Europe/Berlin CEST
END:DAYLIGHT
END:VTIMEZONE
BEGIN:VEVENT
UID:982675e70a7c24a19514144f0f71450b
CATEGORIES:Hauptgruppe
CREATED:20251003T114001
SUMMARY:Aulataler - Jahreshauptversammlung
LOCATION:Gasthaus Fälber\, Kirchheim
URL;VALUE=URI:https://www.die-aulataler.de/terminkalender/eventdetail/313/-/jahreshauptve
 rsammlung?tmpl=component
DESCRIPTION:Liebe Mitglieder,\nwir laden Euch herzlich ein zur Jahreshauptversammlung 2
 025 am\nFreitag, dem 17. Oktober um 18:00 Uhr im Gasthaus Fälber in Kirchhe
 im.\n\nTagesordnung:\nJahresbericht der Ersten Vorsitzenden und Termine 202
 6Kassenbericht der KassiererinBericht der KassenprüferEntlastung des Vorsta
 ndesBericht der Tanz- und MusikwarteVerlesung der Niederschrift der letzten
  JahreshauptversammlungWahl der Mitglieder des VorstandsAnträgeVerschiedene
 s \nAnträge zu Punkt 8. bitte vorab an Diese E-Mail-Adresse ist vor Spambot
 s geschützt! Zur Anzeige muss JavaScript eingeschaltet sein. einreichen.\nI
 m Anschluss an die Jahreshauptversammlung gibt es ein Abendessen.\nWir freu
 en uns auf Euch und bitten um vollzähliges Erscheinen. \n \nDer Vorstand\n 
 Dieser Event wurde importiert von: https://www.die-aulataler.de/terminkalen
 der/eventdetail/313/-/jahreshauptversammlung?tmpl=component
X-ALT-DESC;FMTTYPE=text/html:<p class="MsoNormal">Liebe Mitglieder,</p><p class="MsoNormal">wir laden Eu
 ch herzlich ein zur Jahreshauptversammlung 2025 am</p><p class="MsoNormal">
 <strong>Freitag, dem 17. Oktober um 18:00 Uhr</strong> <strong>im Gasthaus 
 Fälber in Kirchheim.<br /></strong><br />Tagesordnung:</p><ol style="margin
 -top: 0cm;" start="1" type="1"><li class="MsoNormal" style="mso-list: l0 le
 vel1 lfo1; tab-stops: list 36.0pt;"><span style="mso-fareast-font-family: '
 Times New Roman';">Jahresbericht der Ersten Vorsitzenden und Termine 2026</
 span></li><li class="MsoNormal" style="mso-list: l0 level1 lfo1; tab-stops:
  list 36.0pt;"><span style="mso-fareast-font-family: 'Times New Roman';">Ka
 ssenbericht der Kassiererin</span></li><li class="MsoNormal" style="mso-lis
 t: l0 level1 lfo1; tab-stops: list 36.0pt;"><span style="mso-fareast-font-f
 amily: 'Times New Roman';">Bericht der Kassenprüfer</span></li><li class="M
 soNormal" style="mso-list: l0 level1 lfo1; tab-stops: list 36.0pt;"><span s
 tyle="mso-fareast-font-family: 'Times New Roman';">Entlastung des Vorstande
 s</span></li><li class="MsoNormal" style="mso-list: l0 level1 lfo1; tab-sto
 ps: list 36.0pt;"><span style="mso-fareast-font-family: 'Times New Roman';"
 >Bericht der Tanz- und Musikwarte</span></li><li class="MsoNormal" style="m
 so-list: l0 level1 lfo1; tab-stops: list 36.0pt;"><span style="mso-fareast-
 font-family: 'Times New Roman';">Verlesung der Niederschrift der letzten Ja
 hreshauptversammlung</span></li><li class="MsoNormal" style="mso-list: l0 l
 evel1 lfo1; tab-stops: list 36.0pt;"><span style="mso-fareast-font-family: 
 'Times New Roman';">Wahl der Mitglieder des Vorstands</span></li><li class=
 "MsoNormal" style="mso-list: l0 level1 lfo1; tab-stops: list 36.0pt;"><span
  style="mso-fareast-font-family: 'Times New Roman';">Anträge</span></li><li
  class="MsoNormal" style="mso-list: l0 level1 lfo1; tab-stops: list 36.0pt;
 "><span style="mso-fareast-font-family: 'Times New Roman';">Verschiedenes</
 span></li></ol><p class="MsoNormal"> </p><p class="MsoNormal">Anträge zu Pu
 nkt 8. bitte vorab an <joomla-hidden-mail  is-link="1" is-email="1" first="
 dm9yc3RhbmQ=" last="ZGllLWF1bGF0YWxlci5kZQ==" text="dm9yc3RhbmRAZGllLWF1bGF
 0YWxlci5kZQ==" base="" >Diese E-Mail-Adresse ist vor Spambots geschützt! Zu
 r Anzeige muss JavaScript eingeschaltet sein.</joomla-hidden-mail> einreich
 en.<br />Im Anschluss an die Jahreshauptversammlung gibt es ein Abendessen.
 </p><p class="MsoNormal">Wir freuen uns auf Euch und bitten um vollzähliges
  Erscheinen. </p><p class="MsoNormal"> </p><p class="MsoNormal">Der Vorstan
 d</p> <a href="https://www.die-aulataler.de/terminkalender/eventdetail/313/
 -/jahreshauptversammlung?tmpl=component">Dieser Event wurde importiert von:
  https://www.die-aulataler.de/terminkalender/eventdetail/313/-/jahreshauptv
 ersammlung?tmpl=component</a>DTSTAMP:20260421T084334
DTSTART;TZID=Europe/Berlin:20251017T180000
SEQUENCE:0
TRANSP:OPAQUE
END:VEVENT
END:VCALENDAR